BEGIN:VCALENDAR
VERSION:2.0
PRODID:icalendar-ruby
CALSCALE:GREGORIAN
METHOD:PUBLISH
BEGIN:VEVENT
DTSTAMP:20260420T153557Z
UID:344-787859@gracegospel.tithelysetup2.com
DTSTART:20261012T233000Z
DTEND:20261013T003000Z
CLASS:PUBLIC
CREATED:20260420T092841
DESCRIPTION:Monday night prayer is a coming together of the church body\, u
 niting in prayer and lifting up our voices unto our Lord. We believe that 
 battles are won through pryaer and we are drawn closer to God when we gath
 er together in unity. We invite you to join us. We have seen many miracles
  take place through our weekly prayer services\, and we look. forward to t
 he greater things that Jesus has in store for us this year.\nIn the event 
 of holidays\, severe weather\, or other situations we will cancel. So plea
 se always check the website for updates!
LAST-MODIFIED:20260420T092841
LOCATION:
SUMMARY:Monday Night Prayer
URL;VALUE=URI:https://gracegospel.tithelysetup2.com/events/monday-night-pra
 yer--344/2026-10-12
ATTACH;FILENAME=Monday Night Prayer_2026.jpg;FMTTYPE=image/jpeg:https://dq5
 pwpg1q8ru0.cloudfront.net/2026/01/12/21/10/46/37e63509-c32a-482b-8ae2-2273
 211d7331/Monday%20Night%20Prayer_2026.jpg
END:VEVENT
END:VCALENDAR
