BEGIN:VCALENDAR
VERSION:2.0
PRODID:icalendar-ruby
CALSCALE:GREGORIAN
METHOD:PUBLISH
BEGIN:VEVENT
DTSTAMP:20260420T223634Z
UID:88-789207@gracegospel.tithelysetup2.com
DTSTART:20260921T233000Z
DTEND:20260922T003000Z
CLASS:PUBLIC
CREATED:20260420T171255
DESCRIPTION:Our Pastor has been impressed upon by the Holy Ghost to have th
 ese weekly prayer meetings\, uniting the church body together to pray for 
 what the Lord is about to do in our midst. These are not mandatory but all
  are invited and welcome to join us.
LAST-MODIFIED:20260420T171255
LOCATION:GGWC
SUMMARY:Monday Night Prayer
URL;VALUE=URI:https://gracegospel.tithelysetup2.com/events/monday-night-pra
 yer/2026-09-21
ATTACH;FILENAME=MonNite PrayerRev.jpg;FMTTYPE=image/jpeg:https://dq5pwpg1q8
 ru0.cloudfront.net/2022/05/18/16/48/44/d12d3a2c-7fff-44ac-b6ad-fd76b4957af
 8/MonNite%20PrayerRev.jpg
END:VEVENT
END:VCALENDAR
