BEGIN:VCALENDAR
VERSION:2.0
PRODID:icalendar-ruby
CALSCALE:GREGORIAN
METHOD:PUBLISH
BEGIN:VEVENT
DTSTAMP:20260421T025641Z
UID:88-789754@gracegospel.tithelysetup2.com
DTSTART:20261005T233000Z
DTEND:20261006T003000Z
CLASS:PUBLIC
CREATED:20260420T194757
DESCRIPTION:Our Pastor has been impressed upon by the Holy Ghost to have th
 ese weekly prayer meetings\, uniting the church body together to pray for 
 what the Lord is about to do in our midst. These are not mandatory but all
  are invited and welcome to join us.
LAST-MODIFIED:20260420T194757
LOCATION:GGWC
SUMMARY:Monday Night Prayer
URL;VALUE=URI:https://gracegospel.tithelysetup2.com/events/monday-night-pra
 yer/2026-10-05
ATTACH;FILENAME=MonNite PrayerRev.jpg;FMTTYPE=image/jpeg:https://dq5pwpg1q8
 ru0.cloudfront.net/2022/05/18/16/48/44/d12d3a2c-7fff-44ac-b6ad-fd76b4957af
 8/MonNite%20PrayerRev.jpg
END:VEVENT
END:VCALENDAR
